BEGIN:VCALENDAR
VERSION:2.0
PRODID:-//Alavuden Helluntaiseurakunta - ECPv6.15.20//NONSGML v1.0//EN
CALSCALE:GREGORIAN
METHOD:PUBLISH
X-ORIGINAL-URL:https://gospeli.net
X-WR-CALDESC:Tapahtumat Alavuden Helluntaiseurakunta
REFRESH-INTERVAL;VALUE=DURATION:PT1H
X-Robots-Tag:noindex
X-PUBLISHED-TTL:PT1H
BEGIN:VTIMEZONE
TZID:Europe/Helsinki
BEGIN:DAYLIGHT
TZOFFSETFROM:+0200
TZOFFSETTO:+0300
TZNAME:EEST
DTSTART:20250330T010000
END:DAYLIGHT
BEGIN:STANDARD
TZOFFSETFROM:+0300
TZOFFSETTO:+0200
TZNAME:EET
DTSTART:20251026T010000
END:STANDARD
BEGIN:DAYLIGHT
TZOFFSETFROM:+0200
TZOFFSETTO:+0300
TZNAME:EEST
DTSTART:20260329T010000
END:DAYLIGHT
BEGIN:STANDARD
TZOFFSETFROM:+0300
TZOFFSETTO:+0200
TZNAME:EET
DTSTART:20261025T010000
END:STANDARD
BEGIN:DAYLIGHT
TZOFFSETFROM:+0200
TZOFFSETTO:+0300
TZNAME:EEST
DTSTART:20270328T010000
END:DAYLIGHT
BEGIN:STANDARD
TZOFFSETFROM:+0300
TZOFFSETTO:+0200
TZNAME:EET
DTSTART:20271031T010000
END:STANDARD
END:VTIMEZONE
BEGIN:VEVENT
DTSTART;TZID=Europe/Helsinki:20260301T110000
DTEND;TZID=Europe/Helsinki:20260301T110000
DTSTAMP:20260419T200319
CREATED:20260204T173044Z
LAST-MODIFIED:20260204T173104Z
UID:3472-1772362800-1772362800@gospeli.net
SUMMARY:Ehtoollinen; S: Ari Ristimäki\, J: Kimmo Takaluoma\, ♫ kuoro
DESCRIPTION:
URL:https://gospeli.net/tapahtuma/ehtoollinen-s-ari-ristimaki-j-kimmo-takaluoma-kuoro/
END:VEVENT
END:VCALENDAR