BEGIN:VCALENDAR
VERSION:2.0
PRODID:-//Alavuden Helluntaiseurakunta - ECPv6.15.20//NONSGML v1.0//EN
CALSCALE:GREGORIAN
METHOD:PUBLISH
X-ORIGINAL-URL:https://gospeli.net
X-WR-CALDESC:Tapahtumat Alavuden Helluntaiseurakunta
REFRESH-INTERVAL;VALUE=DURATION:PT1H
X-Robots-Tag:noindex
X-PUBLISHED-TTL:PT1H
BEGIN:VTIMEZONE
TZID:Europe/Helsinki
BEGIN:DAYLIGHT
TZOFFSETFROM:+0200
TZOFFSETTO:+0300
TZNAME:EEST
DTSTART:20250330T010000
END:DAYLIGHT
BEGIN:STANDARD
TZOFFSETFROM:+0300
TZOFFSETTO:+0200
TZNAME:EET
DTSTART:20251026T010000
END:STANDARD
BEGIN:DAYLIGHT
TZOFFSETFROM:+0200
TZOFFSETTO:+0300
TZNAME:EEST
DTSTART:20260329T010000
END:DAYLIGHT
BEGIN:STANDARD
TZOFFSETFROM:+0300
TZOFFSETTO:+0200
TZNAME:EET
DTSTART:20261025T010000
END:STANDARD
BEGIN:DAYLIGHT
TZOFFSETFROM:+0200
TZOFFSETTO:+0300
TZNAME:EEST
DTSTART:20270328T010000
END:DAYLIGHT
BEGIN:STANDARD
TZOFFSETFROM:+0300
TZOFFSETTO:+0200
TZNAME:EET
DTSTART:20271031T010000
END:STANDARD
END:VTIMEZONE
BEGIN:VEVENT
DTSTART;TZID=Europe/Helsinki:20260220T180000
DTEND;TZID=Europe/Helsinki:20260220T180000
DTSTAMP:20260420T094649
CREATED:20260204T172756Z
LAST-MODIFIED:20260204T172756Z
UID:3460-1771610400-1771610400@gospeli.net
SUMMARY:Kuoroharjoitus
DESCRIPTION:
URL:https://gospeli.net/tapahtuma/kuoroharjoitus-10/
END:VEVENT
BEGIN:VEVENT
DTSTART;TZID=Europe/Helsinki:20260220T200000
DTEND;TZID=Europe/Helsinki:20260220T200000
DTSTAMP:20260420T094649
CREATED:20260204T172731Z
LAST-MODIFIED:20260204T172731Z
UID:3458-1771617600-1771617600@gospeli.net
SUMMARY:#TKHN Nuoret takkahuoneessa
DESCRIPTION:
URL:https://gospeli.net/tapahtuma/tkhn-nuoret-takkahuoneessa-86/
END:VEVENT
END:VCALENDAR